Workbook

Sheet Übersicht
A1: ="OSB - Bezirksmeisterschaften " &B71 -> OSB - Bezirksmeisterschaften 2027
A3: Wettbewerb | B3: Kenn- | C3: Herren I | E3: Damen I | G3: Herren II | I3: Damen II | K3: Herren III | M3: Damen III | O3: Herren IV | Q3: Damen IV | S3: Herren V | U3: Damen V | W3: Schüler I | AA3: Schüler II | AE3: Jugend | AI3: Junioren I | AK3: Junioren II | AM3: Junioren I | AO3: Junioren II
B4: zahl | W4: m | Y4: w | AA4: m | AC4: w | AE4: m | AG4: w | AI4: m | AM4: w
A5: Kennzahlklassen a | C5: 10 | E5: 11 | G5: 12 | I5: 13 | K5: 14 | M5: 15 | O5: 16 | Q5: 17 | S5: 18 | U5: 19 | W5: 20 | Y5: 21 | AA5: 22 | AC5: 23 | AE5: 30 | AG5: 31 | AI5: 40 | AK5: 42 | AM5: 41 | AO5: 43
A6: Alter a | C6: 21 - 40 | G6: 41 - 50 | K6: 51 - 60 | O6: 61 -70 | S6: 71 und älter | W6: 13 - 14 | AA6: 12 und jünger | AE6: 15 - 16 | AI6: 19 - 20 | AK6: 17 - 18 | AM6: 19 - 20 | AO6: 17 - 18
A7: Jahrgang a | C7: =$B71-40 &" - " & $B71-21 -> 1987 - 2006 | G7: =$B71-50 &" - " & $B71-41 -> 1977 - 1986 | K7: =$B71-60 &" - " & $B71-51 -> 1967 - 1976 | O7: =$B71-70 &" - " & $B71-61 -> 1957 - 1966 | S7: ="19xx - " & $B71-71 -> 19xx - 1956 | W7: =$B71-14 &" - " & $B71-13 -> 2013 - 2014 | AA7: =$B71-12 &" - 20xx" -> 2015 - 20xx | AE7: =$B71-16 &" - " & $B71-15 -> 2011 - 2012 | AI7: =$B71-20 &" - " & $B71-19 -> 2007 - 2008 | AK7: =$B71-18 &" - " & $B71-17 -> 2009 - 2010 | AM7: =$B71-20 &" - " & $B71-19 -> 2007 - 2008 | AO7: =$B71-18 &" - " & $B71-17 -> 2009 - 2010
C8: Einzel | D8: Mannschaft | E8: Einzel | F8: Mannschaft | G8: Einzel | H8: Mannschaft | I8: Einzel | J8: Mannschaft | K8: Einzel | L8: Mannschaft | M8: Einzel | N8: Mannschaft | O8: Einzel | P8: Mannschaft | Q8: Einzel | R8: Mannschaft | S8: Einzel | T8: Mannschaft | U8: Einzel | V8: Mannschaft | W8: Einzel | X8: Mannschaft | Y8: Einzel | Z8: Mannschaft | AA8: Einzel | AB8: Mannschaft | AC8: Einzel | AD8: Mannschaft | AE8: Einzel | AF8: Mannschaft | AG8: Einzel | AH8: Mannschaft | AI8: Einzel | AJ8: Mannschaft | AK8: Einzel | AL8: Mannschaft | AM8: Einzel | AN8: Mannschaft | AO8: Einzel | AP8: Mannschaft
A9: Luftgewehr | B9: 1.10 | C9: E | D9: M | E9: E | F9: M | G9: E | H9: b.10 | I9: E | J9: b.11 | K9: E | L9: M | M9: E | N9: M | O9: E | P9: M | Q9: E | R9: b.15 | S9: E | T9: b.16 | U9: E | V9: b.15 | W9: E | X9: M | Y9: E | Z9: b.20 | AA9: E/W | AB9: b.20 | AC9: E/W | AD9: b.20 | AE9: E | AF9: M | AG9: E | AH9: b.30 | AI9: E | AJ9: M | AK9: E | AL9: b.40 | AM9: E | AN9: M | AO9: E | AP9: b.41
A10: 10m Luftgewehr MixTeam | B10: 1.12 | C10: Team Erwachsene / R | AE10: Team Junioren
A11: 10m Luftgewehr 3x20 | B11: 1.20 | W11: E | X11: M | Y11: E | Z11: b.20 | AA11: b.20 | AB11: b.20 | AC11: b.21 | AD11: b.20 | AE11: E | AF11: M | AG11: E | AH11: b.30
A12: 10m Luftgewehr 3x10 | B12: 1.21 | AA12: E/R | AB12: M/R | AC12: E/R | AD12: b.22
A13: Zimmerstutzen | B13: 1.30 | C13: E | D13: M | E13: E | F13: b.10 | G13: E | H13: b.10 | I13: b.11 | J13: b.10 | K13: E | L13: M | M13: E | N13: b.14 | O13: E | P13: b.14 | Q13: b.15 | R13: b.14 | S13: E | T13: b.14 | U13: b.15 | V13: b.14 | AI13: b.10 | AJ13: b.10 | AK13: b.10 | AL13: b.10 | AM13: b.11 | AN13: b.10 | AO13: b.11 | AP13: b.10
A14: KK - 100m | B14: 1.35 | C14: E | D14: M | E14: E | F14: b.10 | G14: E | H14: b.10 | I14: E | J14: b.10 | K14: E | L14: M | M14: E | N14: b.14 | O14: E | P14: b.14 | Q14: b.15 | R14: b.14 | S14: E | T14: b.14 | U14: b.15 | V14: b.14 | AI14: E | AJ14: b.10 | AK14: b.40 | AL14: b.10 | AM14: E | AN14: b.10 | AO14: b.41 | AP14: b.10
A15: KK - 3x20 | B15: 1.40 | C15: E | D15: M | E15: E | F15: M | G15: E | H15: b.10 | I15: E | J15: b.11 | K15: E | L15: M | M15: E | N15: M | O15: E | P15: b.14 | Q15: b.15 | R15: b.15 | S15: E | T15: b.14 | U15: b.15 | V15: b.15 | AE15: E | AF15: M | AG15: E | AH15: b.30 | AI15: E | AJ15: M | AK15: E | AL15: b.40 | AM15: E | AN15: M | AO15: E | AP15: b.41
A16: KK - Gewehr 30 Schuss * | B16: 1.42 | C16: E | D16: M/R | E16: b.10 | F16: b.10 | G16: b.10 | H16: b.10 | I16: b.10 | J16: b.10 | K16: b.10 | L16: b.10 | M16: b.10 | N16: b.10 | O16: b.10 | P16: b.10 | Q16: b.10 | R16: b.10 | S16: b.10 | T16: b.10 | U16: b.10 | V16: b.10 | AE16: b.40 | AF16: b.10 | AG16: b.40 | AH16: b.10 | AI16: E | AJ16: b.10 | AK16: b.40 | AL16: b.10 | AM16: b.40 | AN16: b.10 | AO16: b.40 | AP16: b.10
A17: KK – Unterhebelrepetrierer | B17: 1.56 | C17: E | D17: M | E17: b.10 | F17: b.10 | G17: E | H17: b.10 | I17: b.12 | J17: b.10 | K17: E | L17: b.10 | M17: b.14 | N17: b.10 | O17: E | P17: b.10 | Q17: b.16 | R17: b.10 | S17: b.16 | T17: b.10 | U17: b.16 | V17: b.10 | AE17: b.10 | AF17: b.10 | AG17: b.10 | AH17: b.10 | AI17: b.10 | AJ17: b.10 | AM17: b.10 | AN17: b.10
A18: Zentralfeuer-Unterhebelrepetrierer | B18: 1.57 | C18: E | D18: M | E18: b.10 | F18: b.10 | G18: b.10 | H18: b.10 | I18: b.10 | J18: b.10 | K18: b.10 | L18: b.10 | M18: b.10 | N18: b.10 | O18: b.10 | P18: b.10 | Q18: b.10 | R18: b.10 | S18: b.10 | T18: b.10 | U18: b.10 | V18: b.10 | AE18: b.10 | AF18: b.10 | AG18: b.10 | AH18: b.10 | AI18: b.10 | AJ18: b.10 | AM18: b.10 | AN18: b.10
A19: Ordonnanzgewehr offene Visier. | B19: 1.58 O | C19: E | D19: M | E19: b.10 | F19: b.10 | G19: E | H19: b.10 | I19: b.12 | J19: b.10 | K19: E | L19: b.10 | M19: b.14 | N19: b.10 | O19: E | P19: b.10 | Q19: b.16 | R19: b.10 | S19: b.16 | T19: b.10 | U19: b.16 | V19: b.10 | AI19: b.10 | AJ19: b.10 | AM19: b.10 | AN19: b.10
A20: Ordonnanzgewehr geschl. Visier. | B20: 1.58 G | C20: E | D20: M | E20: b.10 | F20: b.10 | G20: E | H20: b.10 | I20: b.12 | J20: b.10 | K20: E | L20: b.10 | M20: b.14 | N20: b.10 | O20: E | P20: b.10 | Q20: b.16 | R20: b.10 | S20: b.12 | T20: b.10 | U20: b.12 | V20: b.10 | AI20: b.10 | AJ20: b.10 | AM20: b.10 | AN20: b.10
A21: KK 3x40 | B21: 1.60 | C21: E | D21: M | E21: E | F21: b.10 | G21: E | H21: b.10 | I21: b.11 | J21: b.10 | K21: E | L21: b.10 | M21: b.14 | N21: b.10 | O21: b.12 | P21: b.10 | Q21: b.11 | R21: b.10 | S21: b.12 | T21: b.10 | U21: b.11 | V21: b.10 | AI21: E | AJ21: M | AK21: E | AL21: b.40 | AM21: E | AN21: b.40 | AO21: E | AP21: b.40
A22: Freigewehr 300m Halbprogramm | B22: 1.70 | C22: E | D22: M | E22: b.10 | F22: b.10 | G22: b.10 | H22: b.10 | I22: b.10 | J22: b.10 | K22: b.10 | L22: b.10 | M22: b.10 | N22: b.10 | O22: b.10 | P22: b.10 | Q22: b.10 | R22: b.10 | S22: b.10 | T22: b.10 | U22: b.10 | V22: b.10 | AI22: b.10 | AJ22: b.10 | AM22: b.10 | AN22: b.10
A23: KK - Liegendkampf | B23: 1.80 | C23: E | D23: M | E23: E | F23: M | G23: E | H23: b.10 | I23: E | J23: b.11 | K23: E | L23: M | M23: E | N23: M | O23: E | P23: M | Q23: b.15 | R23: b.15 | S23: E | T23: b.16 | U23: b.15 | V23: b.15 | AE23: E | AF23: M | AG23: E | AH23: b.30 | AI23: E | AJ23: M | AK23: E | AL23: b.40 | AM23: E | AN23: M | AO23: E | AP23: b.41
A24: Liegendkampf 300m | B24: 1.90 | C24: E | D24: M | E24: b.10 | F24: b.10 | G24: b.10 | H24: b.10 | I24: b.10 | J24: b.10 | K24: E | L24: b.10 | M24: b.14 | N24: b.10 | O24: b.14 | P24: b.10 | Q24: b.14 | R24: b.10 | S24: b.14 | T24: b.10 | U24: b.14 | V24: b.10 | AI24: b.10 | AJ24: b.10 | AM24: b.10 | AN24: b.10
A25: 10m Luftpistole | B25: 2.10 | C25: E | D25: M | E25: E | F25: M | G25: E | H25: b.10 | I25: E | J25: b.11 | K25: E | L25: M | M25: E | N25: M | O25: E | P25: b.14 | Q25: E | R25: b.15 | S25: E | T25: b.14 | U25: E | V25: b.15 | W25: E | X25: M | Y25: E | Z25: b.20 | AA25: E/W | AB25: b.20 | AC25: E/W | AD25: b.20 | AE25: E | AF25: M | AG25: E | AH25: b.30 | AI25: E | AJ25: M | AK25: E | AL25: b.40 | AM25: E | AN25: M | AO25: E | AP25: b.41
A26: 10m Luftpistole MixTeam | B26: 2.12 | C26: Team Erwachsene / R | AE26: Team Junioren
A27: 10m LP Mehrkampf | B27: 2.17 | C27: E | E27: b.10 | G27: b.10 | I27: b.10 | K27: b.10 | M27: b.10 | O27: b.10 | Q27: b.10 | S27: b.10 | U27: b.10 | W27: E | X27: M/R | Y27: E/W | Z27: b.20 | AA27: E/W | AB27: b.20 | AC27: E/W | AD27: b.20 | AE27: E | AG27: E | AH27: b.30 | AI27: E/W | AK27: b.40 | AM27: b.40 | AO27: b.40
A28: 10m LP Standard | B28: 2.18 | C28: E | E28: b.10 | G28: b.10 | I28: b.10 | K28: b.10 | M28: b.10 | O28: b.10 | Q28: b.10 | S28: b.10 | U28: b.10 | W28: E | X28: M/R | Y28: E/W | Z28: b.20 | AA28: E/W | AB28: b.20 | AC28: E/W | AD28: b.20 | AE28: E | AG28: E | AH28: b.30 | AI28: E/W | AK28: b.40 | AM28: b.40 | AO28: b.40
A29: 10m Schnellfeuerpistole | B29: 2.19 | W29: E/R | X29: M/R | Y29: E/R | Z29: b.20 | AA29: E/R | AB29: b.20 | AC29: E/R | AD29: b.20 | AE29: E/R | AG29: E/R
A30: 50m Pistole | B30: 2.20 | C30: E | D30: M | E30: b.10 | F30: b.10 | G30: E | H30: b.10 | I30: b.12 | J30: b.10 | K30: E | L30: M | M30: b.14 | N30: b.14 | O30: E | P30: b.14 | Q30: b.16 | R30: b.14 | S30: b.16 | T30: b.14 | U30: b.16 | V30: b.14 | AE30: b.42/R | AF30: b.40/R | AG30: b.42/R | AH30: b.40/R | AI30: E | AJ30: M | AK30: E | AL30: b.40 | AM30: b.40 | AN30: b.40 | AO30: b.42 | AP30: b.40
A31: 25m Schnellfeuerpistole | B31: 2.30 | C31: E | D31: M | E31: b.10 | F31: b.10 | G31: b.10 | H31: b.10 | I31: b.10 | J31: b.10 | K31: E | L31: b.10 | M31: b.14 | N31: b.10 | O31: b.14 | P31: b.10 | Q31: b.14 | R31: b.10 | S31: b.14 | T31: b.10 | U31: b.14 | V31: b.10 | AE31: b.42 | AF31: b.40 | AG31: b.42 | AH31: b.40 | AI31: E | AJ31: M | AK31: E | AL31: b.40 | AM31: b.40 | AN31: b.40 | AO31: b.42 | AP31: b.40
A32: 25m Schnellfeuerpistole Jugend | B32: 2.31 | AE32: E | AF32: M | AG32: E | AH32: b.30
A33: 25m Pistole | B33: 2.40 | C33: E | D33: M | E33: E | F33: M | G33: E | H33: b.10 | I33: b.11 | J33: b.11 | K33: E | L33: M | M33: E | N33: b.11 | O33: E | P33: b.14 | Q33: b.15 | R33: b.11 | S33: E | T33: b.14 | U33: b.15 | V33: b.11 | AE33: E | AF33: M | AG33: E | AH33: b.30 | AI33: E | AJ33: b.10 | AK33: E | AL33: b.10 | AM33: E | AN33: M | AO33: E | AP33: b.41
A34: 25m Zentralfeuerpistole | B34: 2.45 | C34: E | D34: M | E34: b.10 | F34: b.10 | G34: E | H34: b.10 | I34: b.12 | J34: b.10 | K34: E | L34: b.10 | M34: b.14 | N34: b.10 | O34: E | P34: b.10 | Q34: b.16 | R34: b.10 | S34: b.16 | T34: b.10 | U34: b.16 | V34: b.10 | AI34: b.10 | AJ34: b.10 | AM34: b.10 | AN34: b.10
A35: 25m Pistole 9x19mm | B35: 2.53 | C35: E | D35: M | E35: b.10 | F35: b.10 | G35: E | H35: b.10 | I35: b.12 | J35: b.10 | K35: E | L35: b.10 | M35: b.14 | N35: b.10 | O35: E | P35: b.10 | Q35: b.16 | R35: b.10 | S35: b.16 | T35: b.10 | U35: b.16 | V35: b.10 | AI35: b.10 | AJ35: b.10 | AM35: b.10 | AN35: b.10
A36: 25m Revolver .357 Magnum | B36: 2.55 | C36: E | D36: M | E36: b.10 | F36: b.10 | G36: E | H36: b.10 | I36: b.12 | J36: b.10 | K36: E | L36: b.10 | M36: b.14 | N36: b.10 | O36: E | P36: b.10 | Q36: b.16 | R36: b.10 | S36: b.16 | T36: b.10 | U36: b.16 | V36: b.10 | AI36: b.10 | AJ36: b.10 | AM36: b.10 | AN36: b.10
A37: 25m Revolver .44 Magnum | B37: 2.58 | C37: E | D37: M | E37: b.10 | F37: b.10 | G37: E | H37: b.10 | I37: b.12 | J37: b.10 | K37: E | L37: b.10 | M37: b.14 | N37: b.10 | O37: E | P37: b.10 | Q37: b.16 | R37: b.10 | S37: b.16 | T37: b.10 | U37: b.16 | V37: b.10 | AI37: b.10 | AJ37: b.10 | AM37: b.10 | AN37: b.10
A38: 25m Pistole .45 ACP | B38: 2.59 | C38: E | D38: M | E38: b.10 | F38: b.10 | G38: E | H38: b.10 | I38: b.12 | J38: b.10 | K38: E | L38: b.10 | M38: b.14 | N38: b.10 | O38: E | P38: b.10 | Q38: b.16 | R38: b.10 | S38: b.16 | T38: b.10 | U38: b.16 | V38: b.10 | AI38: b.10 | AJ38: b.10 | AM38: b.10 | AN38: b.10
A39: 25m Standardpistole | B39: 2.60 | C39: E | D39: M | E39: b.10 | F39: b.10 | G39: E | H39: b.10 | I39: b.12 | J39: b.10 | K39: E | L39: b.10 | M39: b.14 | N39: b.10 | O39: E | P39: b.10 | Q39: b.16 | R39: b.10 | S39: b.16 | T39: b.10 | U39: b.16 | V39: b.10 | AI39: b.10 | AJ39: b.10 | AM39: b.10 | AN39: b.10
A40: Flinte Trap | B40: 3.10 | C40: E | D40: M | E40: E | F40: M | G40: E | H40: b.10 | I40: E | J40: b.11 | K40: E | L40: M | M40: E | N40: b.11 | O40: E | P40: b.14 | Q40: b.15 | R40: b.11 | S40: b.16 | T40: b.14 | U40: b.15 | V40: b.11 | W40: E | Y40: b.20 | AE40: b.42 | AF40: b.40 | AG40: b.43 | AH40: b.11 | AI40: E | AJ40: M | AK40: E | AL40: b.40 | AM40: E | AN40: b.11 | AO40: E | AP40: b.11
A41: Flinte Trap MIX m/w | B41: 3.12 | C41: Team Erwachsene / R | AE41: Team Junioren
A42: Flinte Doppeltrap | B42: 3.15 | C42: E | D42: M | E42: b.10 | F42: b.10 | G42: E | H42: b.10 | I42: b.12 | J42: b.10 | K42: E | L42: M | M42: b.14 | N42: b.14 | O42: E | P42: b.14 | Q42: b.16 | R42: b.14 | S42: b.16 | T42: b.14 | U42: b.16 | V42: b.14 | AE42: b.40 | AF42: b.10 | AG42: b.11 | AH42: b.10 | AI42: E | AJ42: b.10 | AK42: b.40 | AL42: b.10 | AM42: b.11 | AN42: b.10 | AO42: b.11 | AP42: b.10
A43: Flinte Skeet | B43: 3.20 | C43: E | D43: M | E43: E | F43: M | G43: E | H43: b.10 | I43: b.11 | J43: b.11 | K43: E | L43: M | M43: b.11 | N43: b.11 | O43: E | P43: b.14 | Q43: b.11 | R43: b.11 | S43: b.16 | T43: b.14 | U43: b.11 | V43: b.11 | W43: E | Y43: b.20 | AE43: E | AF43: b.40 | AG43: b.41 | AH43: b.11 | AI43: E | AJ43: M | AK43: E | AL43: b.40 | AM43: E | AN43: b.11 | AO43: b.41 | AP43: b.11
A44: Flinte Skeet MIX m/w | B44: 3.22 | C44: Team Erwachsene / R | AE44: Team Junioren
A45: Lfd. Scheibe 10 m | B45: 4.10 | C45: E | D45: M | E45: b.10 | F45: b.10 | G45: b.10 | H45: b.10 | I45: b.10 | J45: b.10 | K45: b.10 | L45: b.10 | M45: b.10 | N45: b.10 | O45: b.10 | P45: b.10 | Q45: b.10 | R45: b.10 | S45: b.10 | T45: b.10 | U45: b.10 | V45: b.10 | W45: E | X45: M | Y45: b.20 | Z45: b.20 | AE45: E | AF45: M | AG45: b.30 | AH45: b.30 | AI45: E | AJ45: M | AK45: b.40 | AL45: b.40 | AM45: b.40 | AN45: b.40 | AO45: b.40 | AP45: b.40
A46: Lfd. Scheibe 10 m Mix | B46: 4.15 | C46: E | D46: M | E46: E | F46: b.10 | G46: b.10 | H46: b.10 | I46: b.11 | J46: b.10 | K46: b.10 | L46: b.10 | M46: b.11 | N46: b.10 | O46: b.10 | P46: b.10 | Q46: b.11 | R46: b.10 | S46: b.10 | T46: b.10 | U46: b.11 | V46: b.10 | AE46: b.40 | AF46: b.10 | AG46: b.11 | AH46: b.10 | AI46: E | AJ46: b.10 | AK46: b.40 | AL46: b.10 | AM46: b.11 | AN46: b.10 | AO46: b.11 | AP46: b.10
A47: Lfd. Scheibe 50 m | B47: 4.20 | C47: E | D47: M | E47: b.10 | F47: b.10 | G47: b.10 | H47: b.10 | I47: b.10 | J47: b.10 | K47: E | L47: b.10 | M47: b.14 | N47: b.10 | O47: b.14 | P47: b.10 | Q47: b.14 | R47: b.10 | S47: b.14 | T47: b.10 | U47: b.14 | V47: b.10 | AE47: b.10 | AF47: b.10 | AG47: b.10 | AH47: b.10 | AI47: b.10 | AJ47: b.10 | AK47: b.10 | AL47: b.10 | AM47: b.10 | AN47: b.10 | AO47: b.10 | AP47: b.10
A48: Lfd. Scheibe 50 m Mix | B48: 4.25 | C48: E | D48: M | E48: b.10 | F48: b.10 | G48: b.10 | H48: b.10 | I48: b.10 | J48: b.10 | K48: b.10 | L48: b.10 | M48: b.10 | N48: b.10 | O48: b.10 | P48: b.10 | Q48: b.10 | R48: b.10 | S48: b.10 | T48: b.10 | U48: b.10 | V48: b.10 | AE48: b.10 | AF48: b.10 | AG48: b.10 | AH48: b.10 | AI48: b.10 | AJ48: b.10 | AK48: b.10 | AL48: b.10 | AM48: b.10 | AN48: b.10 | AO48: b.10 | AP48: b.10
A49: Armbrust 10m | B49: 5.10 | C49: E | D49: M | E49: E | F49: b.10 | G49: E | H49: b.10 | I49: b.12 | J49: b.10 | K49: E | L49: M | M49: b.14 | N49: b.14 | O49: E | P49: b.14 | Q49: b.16 | R49: b.14 | S49: b.16 | T49: b.14 | U49: b.16 | V49: b.14 | AE49: b.40 | AF49: b.10 | AG49: b.40 | AH49: b.10 | AI49: E | AJ49: b.10 | AK49: b.40 | AL49: b.10 | AM49: b.40 | AN49: b.10 | AO49: b.40 | AP49: b.10
A50: Armbrust 30m | B50: 5.20 | C50: E | D50: M | E50: b.10 | F50: b.10 | G50: b.10 | H50: b.10 | I50: b.10 | J50: b.10 | K50: E | L50: b.10 | M50: b.14 | N50: b.10 | O50: b.14 | P50: b.10 | Q50: b.14 | R50: b.10 | S50: b.14 | T50: b.10 | U50: b.14 | V50: b.10 | AE50: b.40 | AF50: b.10 | AG50: b.40 | AH50: b.10 | AI50: E | AJ50: b.10 | AK50: b.40 | AL50: b.10 | AM50: b.40 | AN50: b.10 | AO50: b.40 | AP50: b.10
A51: Armbrust nat. Scheibe | B51: 5.31 | C51: E | D51: M | E51: b.10 | F51: b.10 | G51: b.10 | H51: b.10 | I51: b.10 | J51: b.10 | K51: E | L51: b.10 | M51: b.14 | N51: b.10 | O51: E | P51: b.10 | Q51: b.16 | R51: b.10 | S51: b.16 | T51: b.10 | U51: b.16 | V51: b.10 | AE51: b.40 | AF51: b.10 | AG51: b.40 | AH51: b.10 | AI51: E | AJ51: b.10 | AK51: b.40 | AL51: b.10 | AM51: b.40 | AN51: b.10 | AO51: b.40 | AP51: b.10
A52: Perkussionsgewehr ** | B52: 7.10 | C52: E | D52: M | E52: E | F52: b.10 | G52: E | H52: b.10 | I52: E | J52: b.10 | K52: E | L52: b.10 | M52: b.13 | N52: b.10 | O52: E | P52: b.10 | Q52: b.13 | R52: b.10 | S52: E | T52: b.10 | U52: b.13 | V52: b.10 | AI52: b.10 | AJ52: b.10 | AK52: b.10 | AL52: b.10 | AM52: b.10 | AN52: b.10 | AO52: b.10 | AP52: b.10
A53: Perkussionsfreigewehr 100m** | B53: 7.15 | C53: E | D53: M | E53: b.10 | F53: b.10 | G53: b.10 | H53: b.10 | I53: b.10 | J53: b.10 | K53: E | L53: b.10 | M53: b.14 | N53: b.10 | O53: b.14 | P53: b.10 | Q53: b.14 | R53: b.10 | S53: b.14 | T53: b.10 | U53: b.14 | V53: b.10 | AI53: b.10 | AJ53: b.10 | AK53: b.10 | AL53: b.10 | AM53: b.10 | AN53: b.10 | AO53: b.10 | AP53: b.10
A54: Perkussions Dienstgewehr 100m** | B54: 7.20 | C54: E | D54: M | E54: b.10 | F54: b.10 | G54: b.10 | H54: b.10 | I54: b.10 | J54: b.10 | K54: E | L54: b.10 | M54: b.14 | N54: b.10 | O54: b.14 | P54: b.10 | Q54: b.14 | R54: b.10 | S54: b.14 | T54: b.10 | U54: b.14 | V54: b.10 | AI54: b.10 | AJ54: b.10 | AK54: b.10 | AL54: b.10 | AM54: b.10 | AN54: b.10 | AO54: b.10 | AP54: b.10
A55: Perkussions Dienstgewehr 50m** | B55: 7.21 | C55: E | E55: b.10 | F55: b.10 | G55: b.10 | H55: b.10 | I55: b.10 | J55: b.10 | K55: b.10 | L55: b.10 | M55: b.10 | N55: b.10 | O55: b.10 | P55: b.10 | Q55: b.10 | R55: b.10 | S55: b.10 | T55: b.10 | U55: b.10 | V55: b.10 | AI55: b.10 | AJ55: b.10 | AK55: b.10 | AL55: b.10 | AM55: b.10 | AN55: b.10 | AO55: b.10 | AP55: b.10
A56: Steinschloßgewehr 50m** | B56: 7.30 | C56: E | D56: M | E56: b.10 | F56: b.10 | G56: b.10 | H56: b.10 | I56: b.10 | J56: b.10 | K56: E | L56: b.10 | M56: b.14 | N56: b.10 | O56: b.14 | P56: b.10 | Q56: b.14 | R56: b.10 | S56: b.14 | T56: b.10 | U56: b.14 | V56: b.10 | AI56: b.10 | AJ56: b.10 | AK56: b.10 | AL56: b.10 | AM56: b.10 | AN56: b.10 | AO56: b.10 | AP56: b.10
A57: Steinschloßgewehr 100m** | B57: 7.31 | C57: E | E57: b.10 | G57: b.10 | I57: b.10 | K57: b.10 | M57: b.10 | O57: b.10 | Q57: b.10 | S57: b.10 | U57: b.10 | AI57: b.10 | AK57: b.10 | AM57: b.10 | AO57: b.10
A58: Steinschlossmuskete ** | B58: 7.35 | C58: E | E58: b.10 | G58: b.10 | I58: b.10 | K58: b.10 | M58: b.10 | O58: b.10 | Q58: b.10 | S58: b.10 | U58: b.10 | AI58: b.10 | AK58: b.10 | AM58: b.10 | AO58: b.10
A59: Perkussionsrevolver** | B59: 7.40 | C59: E | D59: M | E59: E | F59: b.10 | G59: b.10 | H59: b.10 | I59: b.11 | J59: b.10 | K59: E | L59: b.10 | M59: b.11 | N59: b.10 | O59: E | P59: b.10 | Q59: b.11 | R59: b.10 | S59: E | T59: b.10 | U59: b.11 | V59: b.10 | AI59: b.10 | AJ59: b.10 | AK59: b.10 | AL59: b.10 | AM59: b.10 | AN59: b.10 | AO59: b.10 | AP59: b.10
A60: Perkussionspistole ** | B60: 7.50 | C60: E | D60: M | E60: E | F60: b.10 | G60: E | H60: b.10 | I60: b.11 | J60: b.10 | K60: E | L60: b.10 | M60: b.11 | N60: b.10 | O60: E | P60: b.10 | Q60: b.11 | R60: b.10 | S60: E | T60: b.10 | U60: b.11 | V60: b.10 | AI60: b.10 | AJ60: b.10 | AK60: b.10 | AL60: b.10 | AM60: b.10 | AN60: b.10 | AO60: b.10 | AP60: b.10
A61: Steinschloßpistole ** | B61: 7.60 | C61: E | D61: M | E61: b.10 | F61: b.10 | G61: b.10 | H61: b.10 | I61: b.10 | J61: b.10 | K61: E | L61: b.10 | M61: b.14 | N61: b.10 | O61: b.14 | P61: b.10 | Q61: b.14 | R61: b.10 | S61: b.14 | T61: b.10 | U61: b.14 | V61: b.10 | AI61: b.10 | AJ61: b.10 | AK61: b.10 | AL61: b.10 | AM61: b.10 | AN61: b.10 | AO61: b.10 | AP61: b.10
A62: Perkussionsflinte ** | B62: 7.71 | C62: E | D62: M | E62: b.10 | F62: b.10 | G62: b.10 | H62: b.10 | I62: b.10 | J62: b.10 | K62: b.10 | L62: b.10 | M62: b.10 | N62: b.10 | O62: b.10 | P62: b.10 | Q62: b.10 | R62: b.10 | S62: b.10 | T62: b.10 | U62: b.10 | V62: b.10 | AI62: b.10 | AJ62: b.10 | AK62: b.10 | AL62: b.10 | AM62: b.10 | AN62: b.10 | AO62: b.10 | AP62: b.10
A63: Steinschloßflinte ** | B63: 7.72 | C63: E | D63: M | E63: b.10 | F63: b.10 | G63: b.10 | H63: b.10 | I63: b.10 | J63: b.10 | K63: b.10 | L63: b.10 | M63: b.10 | N63: b.10 | O63: b.10 | P63: b.10 | Q63: b.10 | R63: b.10 | S63: b.10 | T63: b.10 | U63: b.10 | V63: b.10 | AI63: b.10 | AJ63: b.10 | AK63: b.10 | AL63: b.10 | AM63: b.10 | AN63: b.10 | AO63: b.10 | AP63: b.10
A65: Legende: | B65: E | C65: Einzelwertung | E65: M | F65: Mannschaftswertung | I65: R | J65: Rahmenwettbewerb | O65: Startmöglichkeit SpO 0.7.1 | U65: keine Startberechtigung | AA65: b.XX | AB65: Startmöglichkeit in Klasse "XX" | AL65: ="Neu in " & B71 -> Neu in 2027
B67: E / W | C67: Rahmenprogramm im OSB mit Weitermeldung gem. Ausschreibung NWDSB | U67: werden nicht auf Bezirksebene durchgeführt
B68: *) 1.42: Der gesamte Wettkampf muss mit Diopter ODER Zielfernrohr geschossen werden | M68: **) 7.10 - 7.72: Teilnahme ab 18 Jahren unter Vorlage einer gültigen Erlaubnis nach §27 Sprengstoffgesetz | AP68: ="Version " & B73 & " / " & B75 & " Änderungen und Ergänzungen bleiben dem Veranstalter vorbehalten!" -> Version 2027-1 / 08.10.26 Änderungen und Ergänzungen bleiben dem Veranstalter vorbehalten!
A71: Sportjahr | B71: 2027
A73: Version | B73: 2027-1
A75: Anderungsdatum | B75: 08.10.26

Sheet Auflage_KB_Bogen
A1: =Übersicht!A1 -> OSB - Bezirksmeisterschaften 2027
C3: Senioren 0 | G3: Senioren I | K3: Senioren II | O3: Senioren III | S3: Senioren IV | W3: Senioren V | AA3: Senioren VI
A4: Auflagewettbewerbe
C5: m | E5: w | G5: m | I5: w | K5: m | M5: w | O5: m | Q5: w | S5: m | U5: w | W5: m | Y5: w | AA5: m | AC5: w
B6: Kennzahlklassen a | C6: 68 | E6: 69 | G6: 70 | I6: 71 | K6: 72 | M6: 73 | O6: 74 | Q6: 75 | S6: 76 | U6: 77 | W6: 78 | Y6: 79 | AA6: 80 | AC6: 81
B7: Alter a | C7: 41 - 50 | G7: 51 - 60 | K7: 61 - 65 | O7: 66 - 70 | S7: 71 - 75 | W7: 76 -80 | AA7: 81 und älter
B8: Jahrgang a | C8: =Übersicht!$B$71-50 &" - " & Übersicht!$B$71-41 -> 1977 - 1986 | G8: =Übersicht!$B$71-60 &" - " & Übersicht!$B$71-51 -> 1967 - 1976 | K8: =Übersicht!$B$71-65 &" - " & Übersicht!$B$71-61 -> 1962 - 1966 | O8: =Übersicht!$B$71-70 &" - " & Übersicht!$B$71-66 -> 1957 - 1961 | S8: =Übersicht!$B$71-75 &" - " & Übersicht!$B$71-71 -> 1952 - 1956 | W8: =Übersicht!$B$71-80 &" - " & Übersicht!$B$71-76 -> 1947 - 1951 | AA8: ="19xx - " & Übersicht!$B$71-81 -> 19xx - 1946
A9: Luftgewehr - Auflage | B9: 1.11 | C9: E/R | D9: M/R | E9: E/R | F9: b.68 | G9: E | H9: M | I9: E | J9: b.70 | K9: E | L9: b.70 | M9: E | N9: b.70 | O9: E | P9: M | Q9: E | R9: b.74 | S9: E | T9: b.74 | U9: E | V9: b.74 | W9: E | X9: b.74 | Y9: E | Z9: b.74 | AA9: E | AB9: b.74 | AC9: E | AD9: b.74
A10: Zimmerstutzen Auflage | B10: 1.31 | C10: E/R | E10: b.68 | G10: E/R | I10: b.70 | K10: b.70 | M10: b.70 | O10: b.70 | Q10: b.70 | S10: b.70 | U10: b.70 | W10: b.70 | Y10: b.70 | AA10: b.70 | AC10: b.70
A11: KK 100m Auflage * | B11: 1.36 | C11: E/R | D11: M/R | E11: E/R | F11: b.68 | G11: E | H11: M | I11: E | J11: b.70 | K11: E | L11: b.70 | M11: E | N11: b.70 | O11: E | P11: M | Q11: E | R11: b.74 | S11: E | T11: b.74 | U11: E | V11: b.74 | W11: E | X11: b.74 | Y11: E/W | Z11: b.74 | AA11: E | AB11: b.74 | AC11: E/W | AD11: b.74
A12: KK-Gewehr Auflage * | B12: 1.41 | C12: E/R | D12: M/R | E12: E/R | F12: b.68 | G12: E | H12: M | I12: E | J12: b.70 | K12: E | L12: b.70 | M12: E | N12: b.70 | O12: E | P12: M | Q12: E | R12: b.74 | S12: E | T12: b.74 | U12: E | V12: b.74 | W12: E | X12: b.74 | Y12: E/W | Z12: b.74 | AA12: E | AB12: b.74 | AC12: E/W | AD12: b.74
A13: KK-Gewehr Auflage ZF 50m | B13: 1.43 | G13: E/R | H13: M/R | I13: E/R | J13: b.70 | K13: b.70 | L13: b.70 | M13: b.71 | N13: b.70 | O13: E/R | P13: M/R | Q13: E/R | R13: b.74 | S13: b.74 | T13: b.74 | U13: b.75 | V13: b.74 | W13: b.74 | X13: b.74 | Y13: b.75 | Z13: b.74 | AA13: b.74 | AB13: b.74 | AC13: b.75 | AD13: b.74
A14: KK-Gewehr Auflage ZF 100m | B14: 1.44 | G14: E/R | H14: M/R | I14: E/R | J14: b.70 | K14: b.70 | L14: b.70 | M14: b.71 | N14: b.70 | O14: E/R | P14: M/R | Q14: E/R | R14: b.74 | S14: b.74 | T14: b.74 | U14: b.75 | V14: b.74 | W14: b.74 | X14: b.74 | Y14: b.75 | Z14: b.74 | AA14: b.74 | AB14: b.74 | AC14: b.75 | AD14: b.74
A15: 10m Luftpistole Auflage | B15: 2.11 | C15: E/R | D15: M/R | E15: E/R | F15: b.68 | G15: E | H15: M | I15: E | J15: b.70 | K15: E | L15: b.70 | M15: E | N15: b.70 | O15: E | P15: M | Q15: E | R15: b.74 | S15: E | T15: b.74 | U15: E /W | V15: b.74 | W15: E | X15: b.74 | Y15: E /W | Z15: b.74 | AA15: E | AB15: b.74 | AC15: E /W | AD15: b.74
A16: 50m Freie Pistole Auflage | B16: 2.21 | G16: E | H16: M | I16: b.70 | J16: b.70 | K16: E | L16: b.70 | M16: b.72 | N16: b.70 | O16: E | P16: M | Q16: b.74 | R16: b.74 | S16: E | T16: b.74 | U16: b.76 | V16: b.74 | W16: E | X16: b.74 | Y16: b.78 | Z16: b.74 | AA16: b.78 | AB16: b.74 | AC16: b.78 | AD16: b.74
A17: 25m Sportpistole Auflage | B17: 2.42 | G17: E | H17: M | I17: b.70 | J17: b.70 | K17: b.70 | L17: b.70 | M17: b.70 | N17: b.70 | O17: E | P17: M | Q17: b.74 | R17: b.74 | S17: E | T17: b.74 | U17: b.76 | V17: b.74 | W17: E | X17: b.74 | Y17: b.78 | Z17: b.74 | AA17: E | AB17: b.74 | AC17: b.78 | AD17: b.74
C19: *) 1.36 + 1.41: Der gesamte Wettkampf muss mit Diopter ODER Zielfernrohr geschossen werden
O20: Legende:
A21: PARA-Wettbewerbe | C21: SH2/AB2 | E21: SH1/AB1 | G21: SH1/AB1 | I21: SH3 | K21: AB3
C22: m/w | E22: m | G22: w | I22: m/w | K22: m/w | O22: E | P22: Einzelwertung
B23: Kennzahlklassen a | C23: 90 | E23: 92 | G23: 93 | I23: 94 | K23: 96
B24: Alter a | C24: ab Jugendklasse | O24: E / W | P24: Rahmenprogramm im OSB mit Weitermeldung gem. Ausschreibung NWDSB
A25: Luftgewehr | B25: 1.10 | C25: E | E25: E | G25: E | I25: E | K25: E
A26: Luftgewehr Liegend | B26: 1.18 | C26: E | E26: E | G26: b. 92 | O26: M | P26: Mannschaftswertung
A27: Zimmerstutzen | B27: 1.30 | C27: E | E27: E | G27: b. 92
A28: KK 100m | B28: 1.35 | C28: E | E28: E | G28: b. 92 | O28: R | P28: Rahmenwettbewerb
A29: KK-Freigewehr 3 x 40 | B29: 1.60 | E29: E | G29: b.92
A30: KK-Liegendkampf | B30: 1.80 | C30: E | E30: E | G30: b.92 | P30: Startmöglichkeit SpO 0.7.1
A31: 10m Luftpistole | B31: 2.10 | E31: E | G31: b.92
A32: 10m LP Standard ** | B32: 2.18 | E32: E | G32: b. 92 | P32: keine Startberechtigung
A33: 50m Pistole | B33: 2.20 | E33: E | G33: b. 92
A34: 25m Pistole | B34: 2.40 | E34: E | G34: b. 92 | P34: werden nicht auf Bezirksebene durchgeführt
O36: b.XX | P36: Startmöglichkeit in Klasse "XX"
C37: **) 2.18: wird nur auf einscheibigen Anlagen geschossen
P38: Disziplinen mit Wahlmöglichkeit zwischen Behinderten- und Nichtbehinderten Wettbewerben
P40: =Übersicht!AL65 -> Neu in 2027
A42: Bogenwettbewerbe | C42: Herren | E42: Damen | G42: Schüler A | K42: Schüler B | M42: Jugend | P42: Junioren | R42: Juniorinnen | T42: Master | V42: Master | X42: Senior | Z42: Seniorinnen
G43: m | I43: w | J43: m | L43: w | M43: m | O43: w | P43: A m | R43: A w | T43: m | V43: w | X43: m | Z43: w
A44: Kennzahlklassen a | C44: 10 | E44: 11 | G44: 20 | I44: 21 | J44: 22 | L44: 23 | M44: 30 | O44: 31 | P44: 40 | R44: 41 | T44: 12 | V44: 13 | X44: 14 | Z44: 15
A45: Jahrgänge a | C45: 1972 - 2000 | E45: 1972 - 2000 | G45: 2007 - 2008 | J45: 2009 - 2010 | M45: 2004 - 2006 | P45: 2001 - 2003 | R45: 2001 - 2003 | T45: 1956 - 1971 | V45: 1956 - 1971 | X45: 1955 und älter | Z45: 1955 und älter
A46: WA im Freien Recurve | B46: 6.10 | C46: E | D46: M | E46: E | F46: M | G46: E | H46: M | I46: E | J46: E | K46: M | L46: E | M46: E | N46: M | O46: E | P46: E | Q46: M | R46: E | S46: M b.40 | T46: E | U46: M | V46: E | W46: M | X46: E | Y46: M | Z46: E | AA46: M
A47: WA im Freien Compound | B47: 6.15 | C47: E | D47: M | E47: E | F47: M | G47: E | I47: b.20 | M47: E | N47: M | O47: b.30 | P47: E | Q47: M b.10 | R47: b.40 | S47: M b.11 | T47: E | U47: M | V47: E | W47: M b.11 | X47: E | Z47: b.13 | AA47: M b.11
A48: WA im Freien Blankbogen | B48: 6.16 | C48: E | E48: E | M48: E | O48: b.30 | P48: E | R48: b.40 | T48: E | V48: E | X48: b.12 | Z48: b.13
A49: Halle Recurve | B49: 6.20 | C49: E | D49: M | E49: E | F49: M | G49: E | H49: M | I49: E | J49: E | K49: M | L49: E | M49: E | N49: M | O49: E | P49: E | Q49: M | R49: E | S49: M b.40 | T49: E | U49: M | V49: E | W49: M | X49: E | Y49: M | Z49: E | AA49: M
A50: Halle Compound | B50: 6.25 | C50: E | D50: M | E50: E | F50: M | G50: E | I50: b.20 | M50: E | N50: M | O50: b.30 | P50: E | Q50: M b.10 | R50: b.40 | S50: M b.11 | T50: E | U50: M b.10 | V50: E | W50: M b.11 | X50: E | Z50: b.13 | AA50: M b.11
A51: Halle Blankbogen | B51: 6.26 | C51: E | E51: E | M51: E | O51: b.30 | P51: E | R51: b.40 | T51: E | V51: E | X51: b.12 | Z51: b.13
A52: Feldbogen Recurve | B52: 6.30 | C52: E | E52: E | G52: E | I52: b.20 | M52: E | O52: b.30 | P52: E | R52: b.40 | T52: E | V52: E | X52: b.12 | Z52: b.13
A53: Feldbogen Blank | B53: 6.40 | C53: E | E53: E | M53: E | O53: b.30 | P53: E | R53: b.40 | T53: E | V53: E | X53: b.12 | Z53: b.13
A54: Feldbogen Compound | B54: 6.50 | C54: E | E54: E | G54: E | I54: b.20 | M54: E | O54: b.30 | P54: E | R54: b.40 | T54: E | V54: E | X54: b.12 | Z54: b.13
A55: 3 D Recurve | B55: 6.60 | C55: E | E55: E | G55: E | I55: b.20 | M55: E | O55: b.30 | P55: E | R55: b.40 | T55: E | V55: E | X55: b.12 | Z55: b.13
A56: 3 D Compound | B56: 6.65 | C56: E | E56: E | G56: E | I56: b.20 | M56: E | O56: b.30 | P56: E | R56: b.40 | T56: E | V56: E | X56: b.12 | Z56: b.13
A57: 3 D Blankbogen | B57: 6.66 | C57: E | E57: E | M57: E | O57: b.30 | P57: E | R57: b.40 | T57: E | V57: E | X57: b.12 | Z57: b.13
A58: 3 D Langbogen | B58: 6.67 | C58: E | E58: E | M58: E | O58: b.30 | P58: E | R58: b.40 | T58: E | V58: E | X58: b.12 | Z58: b.13
A59: 3 D Instinktiv | B59: 6.68 | C59: E | E59: E | M59: E | O59: b.30 | P59: E | R59: b.40 | T59: E | V59: E | X59: b.12 | Z59: b.13
AD61: =Übersicht!AP68 -> Version 2027-1 / 08.10.26 Änderungen und Ergänzungen bleiben dem Veranstalter vorbehalten!
