Workbook

Sheet Übersicht
A1: ="OSB - Bezirksmeisterschaften " &B71 -> OSB - Bezirksmeisterschaften 2027
A3: Wettbewerb | B3: Kenn- | C3: Herren I | E3: Damen I | G3: Herren II | I3: Damen II | K3: Herren III | M3: Damen III | O3: Herren IV | Q3: Damen IV | S3: Herren V | U3: Damen V | W3: Schüler I | AA3: Schüler II | AE3: Jugend | AI3: Junioren I | AK3: Junioren II | AM3: Junioren I | AO3: Junioren II
B4: zahl | W4: m | Y4: w | AA4: m | AC4: w | AE4: m | AG4: w | AI4: m | AM4: w
A5: Kennzahlklassen a | C5: 10 | E5: 11 | G5: 12 | I5: 13 | K5: 14 | M5: 15 | O5: 16 | Q5: 17 | S5: 18 | U5: 19 | W5: 20 | Y5: 21 | AA5: 22 | AC5: 23 | AE5: 30 | AG5: 31 | AI5: 40 | AK5: 42 | AM5: 41 | AO5: 43
A6: Alter a | C6: 21 - 40 | G6: 41 - 50 | K6: 51 - 60 | O6: 61 -70 | S6: 71 und älter | W6: 13 - 14 | AA6: 12 und jünger | AE6: 15 - 16 | AI6: 19 - 20 | AK6: 17 - 18 | AM6: 19 - 20 | AO6: 17 - 18
A7: Jahrgang a | C7: =$B71-40 &" - " & $B71-21 -> 1987 - 2006 | G7: =$B71-50 &" - " & $B71-41 -> 1977 - 1986 | K7: =$B71-60 &" - " & $B71-51 -> 1967 - 1976 | O7: =$B71-70 &" - " & $B71-61 -> 1957 - 1966 | S7: ="19xx - " & $B71-71 -> 19xx - 1956 | W7: =$B71-14 &" - " & $B71-13 -> 2013 - 2014 | AA7: =$B71-12 &" - 20xx" -> 2015 - 20xx | AE7: =$B71-16 &" - " & $B71-15 -> 2011 - 2012 | AI7: =$B71-20 &" - " & $B71-19 -> 2007 - 2008 | AK7: =$B71-18 &" - " & $B71-17 -> 2009 - 2010 | AM7: =$B71-20 &" - " & $B71-19 -> 2007 - 2008 | AO7: =$B71-18 &" - " & $B71-17 -> 2009 - 2010
C8: Einzel | D8: Mannschaft | E8: Einzel | F8: Mannschaft | G8: Einzel | H8: Mannschaft | I8: Einzel | J8: Mannschaft | K8: Einzel | L8: Mannschaft | M8: Einzel | N8: Mannschaft | O8: Einzel | P8: Mannschaft | Q8: Einzel | R8: Mannschaft | S8: Einzel | T8: Mannschaft | U8: Einzel | V8: Mannschaft | W8: Einzel | X8: Mannschaft | Y8: Einzel | Z8: Mannschaft | AA8: Einzel | AB8: Mannschaft | AC8: Einzel | AD8: Mannschaft | AE8: Einzel | AF8: Mannschaft | AG8: Einzel | AH8: Mannschaft | AI8: Einzel | AJ8: Mannschaft | AK8: Einzel | AL8: Mannschaft | AM8: Einzel | AN8: Mannschaft | AO8: Einzel | AP8: Mannschaft
A9: Luftgewehr | B9: 1.10 | C9: E | D9: M | E9: E | F9: M | G9: E | H9: b.10 | I9: E | J9: b.11 | K9: E | L9: M | M9: E | N9: M | O9: E | P9: M | Q9: E | R9: b.15 | S9: E | T9: b.16 | U9: E | V9: b.15 | W9: E | X9: M | Y9: E | Z9: b.20 | AA9: E/W | AB9: b.20 | AC9: E/W | AD9: b.20 | AE9: E | AF9: M | AG9: E | AH9: b.30 | AI9: E | AJ9: M | AK9: E | AL9: b.40 | AM9: E | AN9: M | AO9: E | AP9: b.41
A10: 10m Luftgewehr MixTeam | B10: 1.12 | C10: Team Erwachsene / R | AE10: Team Junioren
A11: 10m Luftgewehr 3x20 | B11: 1.20 | W11: E | X11: M | Y11: E | Z11: b.20 | AA11: b.20 | AB11: b.20 | AC11: b.21 | AD11: b.20 | AE11: E | AF11: M | AG11: E | AH11: b.30
A12: 10m Luftgewehr 3x10 | B12: 1.21 | AA12: E/R | AB12: M/R | AC12: E/R | AD12: b.22
A13: Zimmerstutzen | B13: 1.30 | C13: E | D13: M | E13: E | F13: b.10 | G13: E | H13: b.10 | I13: b.11 | J13: b.10 | K13: E | L13: M | M13: E | N13: b.14 | O13: E | P13: b.14 | Q13: b.15 | R13: b.14 | S13: E | T13: b.14 | U13: b.15 | V13: b.14 | AI13: b.10 | AJ13: b.10 | AK13: b.10 | AL13: b.10 | AM13: b.11 | AN13: b.10 | AO13: b.11 | AP13: b.10
A14: KK - 100m | B14: 1.35 | C14: E | D14: M | E14: E | F14: b.10 | G14: E | H14: b.10 | I14: E | J14: b.10 | K14: E | L14: M | M14: E | N14: b.14 | O14: E | P14: b.14 | Q14: b.15 | R14: b.14 | S14: E | T14: b.14 | U14: b.15 | V14: b.14 | AI14: E | AJ14: b.10 | AK14: b.40 | AL14: b.10 | AM14: E | AN14: b.10 | AO14: b.41 | AP14: b.10
A15: KK - 3x20 | B15: 1.40 | C15: E | D15: M | E15: E | F15: M | G15: E | H15: b.10 | I15: E | J15: b.11 | K15: E | L15: M | M15: E | N15: M | O15: E | P15: b.14 | Q15: b.15 | R15: b.15 | S15: E | T15: b.14 | U15: b.15 | V15: b.15 | AE15: E | AF15: M | AG15: E | AH15: b.30 | AI15: E | AJ15: M | AK15: E | AL15: b.40 | AM15: E | AN15: M | AO15: E | AP15: b.41
A16: KK - Gewehr 30 Schuss * | B16: 1.42 | C16: E | D16: M/R | E16: b.10 | F16: b.10 | G16: b.10 | H16: b.10 | I16: b.10 | J16: b.10 | K16: b.10 | L16: b.10 | M16: b.10 | N16: b.10 | O16: b.10 | P16: b.10 | Q16: b.10 | R16: b.10 | S16: b.10 | T16: b.10 | U16: b.10 | V16: b.10 | AE16: b.40 | AF16: b.10 | AG16: b.40 | AH16: b.10 | AI16: E | AJ16: b.10 | AK16: b.40 | AL16: b.10 | AM16: b.40 | AN16: b.10 | AO16: b.40 | AP16: b.10
A17: KK – Unterhebelrepetrierer | B17: 1.56 | C17: E | D17: M | E17: b.10 | F17: b.10 | G17: E | H17: b.10 | I17: b.12 | J17: b.10 | K17: E | L17: b.10 | M17: b.14 | N17: b.10 | O17: E | P17: b.10 | Q17: b.16 | R17: b.10 | S17: b.16 | T17: b.10 | U17: b.16 | V17: b.10 | AE17: b.10 | AF17: b.10 | AG17: b.10 | AH17: b.10 | AI17: b.10 | AJ17: b.10 | AM17: b.10 | AN17: b.10
A18: Zentralfeuer-Unterhebelrepetrierer | B18: 1.57 | C18: E | D18: M | E18: b.10 | F18: b.10 | G18: b.10 | H18: b.10 | I18: b.10 | J18: b.10 | K18: b.10 | L18: b.10 | M18: b.10 | N18: b.10 | O18: b.10 | P18: b.10 | Q18: b.10 | R18: b.10 | S18: b.10 | T18: b.10 | U18: b.10 | V18: b.10 | AE18: b.10 | AF18: b.10 | AG18: b.10 | AH18: b.10 | AI18: b.10 | AJ18: b.10 | AM18: b.10 | AN18: b.10
A19: Ordonnanzgewehr offene Visier. | B19: 1.58 O | C19: E | D19: M | E19: b.10 | F19: b.10 | G19: E | H19: b.10 | I19: b.12 | J19: b.10 | K19: E | L19: b.10 | M19: b.14 | N19: b.10 | O19: E | P19: b.10 | Q19: b.16 | R19: b.10 | S19: b.16 | T19: b.10 | U19: b.16 | V19: b.10 | AI19: b.10 | AJ19: b.10 | AM19: b.10 | AN19: b.10
A20: Ordonnanzgewehr geschl. Visier. | B20: 1.58 G | C20: E | D20: M | E20: b.10 | F20: b.10 | G20: E | H20: b.10 | I20: b.12 | J20: b.10 | K20: E | L20: b.10 | M20: b.14 | N20: b.10 | O20: E | P20: b.10 | Q20: b.16 | R20: b.10 | S20: b.12 | T20: b.10 | U20: b.12 | V20: b.10 | AI20: b.10 | AJ20: b.10 | AM20: b.10 | AN20: b.10
A21: KK 3x40 | B21: 1.60 | C21: E | D21: M | E21: E | F21: b.10 | G21: E | H21: b.10 | I21: b.11 | J21: b.10 | K21: E | L21: b.10 | M21: b.14 | N21: b.10 | O21: b.12 | P21: b.10 | Q21: b.11 | R21: b.10 | S21: b.12 | T21: b.10 | U21: b.11 | V21: b.10 | AI21: E | AJ21: M | AK21: E | AL21: b.40 | AM21: E | AN21: b.40 | AO21: E | AP21: b.40
A22: Freigewehr 300m Halbprogramm | B22: 1.70 | C22: E | D22: M | E22: b.10 | F22: b.10 | G22: b.10 | H22: b.10 | I22: b.10 | J22: b.10 | K22: b.10 | L22: b.10 | M22: b.10 | N22: b.10 | O22: b.10 | P22: b.10 | Q22: b.10 | R22: b.10 | S22: b.10 | T22: b.10 | U22: b.10 | V22: b.10 | AI22: b.10 | AJ22: b.10 | AM22: b.10 | AN22: b.10
A23: KK - Liegendkampf | B23: 1.80 | C23: E | D23: M | E23: E | F23: M | G23: E | H23: b.10 | I23: E | J23: b.11 | K23: E | L23: M | M23: E | N23: M | O23: E | P23: M | Q23: b.15 | R23: b.15 | S23: E | T23: b.16 | U23: b.15 | V23: b.15 | AE23: E | AF23: M | AG23: E | AH23: b.30 | AI23: E | AJ23: M | AK23: E | AL23: b.40 | AM23: E | AN23: M | AO23: E | AP23: b.41
A24: Liegendkampf 300m | B24: 1.90 | C24: E | D24: M | E24: b.10 | F24: b.10 | G24: b.10 | H24: b.10 | I24: b.10 | J24: b.10 | K24: E | L24: b.10 | M24: b.14 | N24: b.10 | O24: b.14 | P24: b.10 | Q24: b.14 | R24: b.10 | S24: b.14 | T24: b.10 | U24: b.14 | V24: b.10 | AI24: b.10 | AJ24: b.10 | AM24: b.10 | AN24: b.10
A25: 10m Luftpistole | B25: 2.10 | C25: E | D25: M | E25: E | F25: M | G25: E | H25: b.10 | I25: E | J25: b.11 | K25: E | L25: M | M25: E | N25: M | O25: E | P25: b.14 | Q25: E | R25: b.15 | S25: E | T25: b.14 | U25: E | V25: b.15 | W25: E | X25: M | Y25: E | Z25: b.20 | AA25: E/W | AB25: b.20 | AC25: E/W | AD25: b.20 | AE25: E | AF25: M | AG25: E | AH25: b.30 | AI25: E | AJ25: M | AK25: E | AL25: b.40 | AM25: E | AN25: M | AO25: E | AP25: b.41
A26: 10m Luftpistole MixTeam | B26: 2.12 | C26: Team Erwachsene / R | AE26: Team Junioren
A27: 10m LP Mehrkampf | B27: 2.17 | C27: E | E27: b.10 | G27: b.10 | I27: b.10 | K27: b.10 | M27: b.10 | O27: b.10 | Q27: b.10 | S27: b.10 | U27: b.10 | W27: E | X27: M/R | Y27: E/W | Z27: b.20 | AA27: E/W | AB27: b.20 | AC27: E/W | AD27: b.20 | AE27: E | AG27: E | AH27: b.30 | AI27: E/W | AK27: b.40 | AM27: b.40 | AO27: b.40
A28: 10m LP Standard | B28: 2.18 | C28: E | E28: b.10 | G28: b.10 | I28: b.10 | K28: b.10 | M28: b.10 | O28: b.10 | Q28: b.10 | S28: b.10 | U28: b.10 | W28: E | X28: M/R | Y28: E/W | Z28: b.20 | AA28: E/W | AB28: b.20 | AC28: E/W | AD28: b.20 | AE28: E | AG28: E | AH28: b.30 | AI28: E/W | AK28: b.40 | AM28: b.40 | AO28: b.40
A29: 10m Schnellfeuerpistole | B29: 2.19 | W29: E/R | X29: M/R | Y29: E/R | Z29: b.20 | AA29: E/R | AB29: b.20 | AC29: E/R | AD29: b.20 | AE29: E/R | AG29: E/R
A30: 50m Pistole | B30: 2.20 | C30: E | D30: M | E30: b.10 | F30: b.10 | G30: E | H30: b.10 | I30: b.12 | J30: b.10 | K30: E | L30: M | M30: b.14 | N30: b.14 | O30: E | P30: b.14 | Q30: b.16 | R30: b.14 | S30: b.16 | T30: b.14 | U30: b.16 | V30: b.14 | AE30: b.42/R | AF30: b.40/R | AG30: b.42/R | AH30: b.40/R | AI30: E | AJ30: M | AK30: E | AL30: b.40 | AM30: b.40 | AN30: b.40 | AO30: b.42 | AP30: b.40
A31: 25m Schnellfeuerpistole | B31: 2.30 | C31: E | D31: M | E31: b.10 | F31: b.10 | G31: b.10 | H31: b.10 | I31: b.10 | J31: b.10 | K31: E | L31: b.10 | M31: b.14 | N31: b.10 | O31: b.14 | P31: b.10 | Q31: b.14 | R31: b.10 | S31: b.14 | T31: b.10 | U31: b.14 | V31: b.10 | AE31: b.42 | AF31: b.40 | AG31: b.42 | AH31: b.40 | AI31: E | AJ31: M | AK31: E | AL31: b.40 | AM31: b.40 | AN31: b.40 | AO31: b.42 | AP31: b.40
A32: 25m Schnellfeuerpistole Jugend | B32: 2.31 | AE32: E | AF32: M | AG32: E | AH32: b.30
A33: 25m Pistole | B33: 2.40 | C33: E | D33: M | E33: E | F33: M | G33: E | H33: b.10 | I33: b.11 | J33: b.11 | K33: E | L33: M | M33: E | N33: b.11 | O33: E | P33: b.14 | Q33: b.15 | R33: b.11 | S33: E | T33: b.14 | U33: b.15 | V33: b.11 | AE33: E | AF33: M | AG33: E | AH33: b.30 | AI33: E | AJ33: b.10 | AK33: E | AL33: b.10 | AM33: E | AN33: M | AO33: E | AP33: b.41
A34: 25m Zentralfeuerpistole | B34: 2.45 | C34: E | D34: M | E34: b.10 | F34: b.10 | G34: E | H34: b.10 | I34: b.12 | J34: b.10 | K34: E | L34: b.10 | M34: b.14 | N34: b.10 | O34: E | P34: b.10 | Q34: b.16 | R34: b.10 | S34: b.16 | T34: b.10 | U34: b.16 | V34: b.10 | AI34: b.10 | AJ34: b.10 | AM34: b.10 | AN34: b.10
A35: 25m Pistole 9x19mm | B35: 2.53 | C35: E | D35: M | E35: b.10 | F35: b.10 | G35: E | H35: b.10 | I35: b.12 | J35: b.10 | K35: E | L35: b.10 | M35: b.14 | N35: b.10 | O35: E | P35: b.10 | Q35: b.16 | R35: b.10 | S35: b.16 | T35: b.10 | U35: b.16 | V35: b.10 | AI35: b.10 | AJ35: b.10 | AM35: b.10 | AN35: b.10
A36: 25m Revolver .357 Magnum | B36: 2.55 | C36: E | D36: M | E36: b.10 | F36: b.10 | G36: E | H36: b.10 | I36: b.12 | J36: b.10 | K36: E | L36: b.10 | M36: b.14 | N36: b.10 | O36: E | P36: b.10 | Q36: b.16 | R36: b.10 | S36: b.16 | T36: b.10 | U36: b.16 | V36: b.10 | AI36: b.10 | AJ36: b.10 | AM36: b.10 | AN36: b.10
A37: 25m Revolver .44 Magnum | B37: 2.58 | C37: E | D37: M | E37: b.10 | F37: b.10 | G37: E | H37: b.10 | I37: b.12 | J37: b.10 | K37: E | L37: b.10 | M37: b.14 | N37: b.10 | O37: E | P37: b.10 | Q37: b.16 | R37: b.10 | S37: b.16 | T37: b.10 | U37: b.16 | V37: b.10 | AI37: b.10 | AJ37: b.10 | AM37: b.10 | AN37: b.10
A38: 25m Pistole .45 ACP | B38: 2.59 | C38: E | D38: M | E38: b.10 | F38: b.10 | G38: E | H38: b.10 | I38: b.12 | J38: b.10 | K38: E | L38: b.10 | M38: b.14 | N38: b.10 | O38: E | P38: b.10 | Q38: b.16 | R38: b.10 | S38: b.16 | T38: b.10 | U38: b.16 | V38: b.10 | AI38: b.10 | AJ38: b.10 | AM38: b.10 | AN38: b.10
A39: 25m Standardpistole | B39: 2.60 | C39: E | D39: M | E39: b.10 | F39: b.10 | G39: E | H39: b.10 | I39: b.12 | J39: b.10 | K39: E | L39: b.10 | M39: b.14 | N39: b.10 | O39: E | P39: b.10 | Q39: b.16 | R39: b.10 | S39: b.16 | T39: b.10 | U39: b.16 | V39: b.10 | AI39: b.10 | AJ39: b.10 | AM39: b.10 | AN39: b.10
A40: Flinte Trap | B40: 3.10 | C40: E | D40: M | E40: E | F40: M | G40: E | H40: b.10 | I40: E | J40: b.11 | K40: E | L40: M | M40: E | N40: b.11 | O40: E | P40: b.14 | Q40: b.15 | R40: b.11 | S40: b.16 | T40: b.14 | U40: b.15 | V40: b.11 | W40: E | Y40: b.20 | AE40: b.42 | AF40: b.40 | AG40: b.43 | AH40: b.11 | AI40: E | AJ40: M | AK40: E | AL40: b.40 | AM40: E | AN40: b.11 | AO40: E | AP40: b.11
A41: Flinte Trap MIX m/w | B41: 3.12 | C41: Team Erwachsene / R | AE41: Team Junioren
...

Sheet Auflage_KB_Bogen
A1: =Übersicht!A1 -> OSB - Bezirksmeisterschaften 2027
C3: Senioren 0 | G3: Senioren I | K3: Senioren II | O3: Senioren III | S3: Senioren IV | W3: Senioren V | AA3: Senioren VI
A4: Auflagewettbewerbe
C5: m | E5: w | G5: m | I5: w | K5: m | M5: w | O5: m | Q5: w | S5: m | U5: w | W5: m | Y5: w | AA5: m | AC5: w
B6: Kennzahlklassen a | C6: 68 | E6: 69 | G6: 70 | I6: 71 | K6: 72 | M6: 73 | O6: 74 | Q6: 75 | S6: 76 | U6: 77 | W6: 78 | Y6: 79 | AA6: 80 | AC6: 81
B7: Alter a | C7: 41 - 50 | G7: 51 - 60 | K7: 61 - 65 | O7: 66 - 70 | S7: 71 - 75 | W7: 76 -80 | AA7: 81 und älter
B8: Jahrgang a | C8: =Übersicht!$B$71-50 &" - " & Übersicht!$B$71-41 -> 1977 - 1986 | G8: =Übersicht!$B$71-60 &" - " & Übersicht!$B$71-51 -> 1967 - 1976 | K8: =Übersicht!$B$71-65 &" - " & Übersicht!$B$71-61 -> 1962 - 1966 | O8: =Übersicht!$B$71-70 &" - " & Übersicht!$B$71-66 -> 1957 - 1961 | S8: =Übersicht!$B$71-75 &" - " & Übersicht!$B$71-71 -> 1952 - 1956 | W8: =Übersicht!$B$71-80 &" - " & Übersicht!$B$71-76 -> 1947 - 1951 | AA8: ="19xx - " & Übersicht!$B$71-81 -> 19xx - 1946
A9: Luftgewehr - Auflage | B9: 1.11 | C9: E/R | D9: M/R | E9: E/R | F9: b.68 | G9: E | H9: M | I9: E | J9: b.70 | K9: E | L9: b.70 | M9: E | N9: b.70 | O9: E | P9: M | Q9: E | R9: b.74 | S9: E | T9: b.74 | U9: E | V9: b.74 | W9: E | X9: b.74 | Y9: E | Z9: b.74 | AA9: E | AB9: b.74 | AC9: E | AD9: b.74
A10: Zimmerstutzen Auflage | B10: 1.31 | C10: E/R | E10: b.68 | G10: E/R | I10: b.70 | K10: b.70 | M10: b.70 | O10: b.70 | Q10: b.70 | S10: b.70 | U10: b.70 | W10: b.70 | Y10: b.70 | AA10: b.70 | AC10: b.70
A11: KK 100m Auflage * | B11: 1.36 | C11: E/R | D11: M/R | E11: E/R | F11: b.68 | G11: E | H11: M | I11: E | J11: b.70 | K11: E | L11: b.70 | M11: E | N11: b.70 | O11: E | P11: M | Q11: E | R11: b.74 | S11: E | T11: b.74 | U11: E | V11: b.74 | W11: E | X11: b.74 | Y11: E/W | Z11: b.74 | AA11: E | AB11: b.74 | AC11: E/W | AD11: b.74
A12: KK-Gewehr Auflage * | B12: 1.41 | C12: E/R | D12: M/R | E12: E/R | F12: b.68 | G12: E | H12: M | I12: E | J12: b.70 | K12: E | L12: b.70 | M12: E | N12: b.70 | O12: E | P12: M | Q12: E | R12: b.74 | S12: E | T12: b.74 | U12: E | V12: b.74 | W12: E | X12: b.74 | Y12: E/W | Z12: b.74 | AA12: E | AB12: b.74 | AC12: E/W | AD12: b.74
A13: KK-Gewehr Auflage ZF 50m | B13: 1.43 | G13: E/R | H13: M/R | I13: E/R | J13: b.70 | K13: b.70 | L13: b.70 | M13: b.71 | N13: b.70 | O13: E/R | P13: M/R | Q13: E/R | R13: b.74 | S13: b.74 | T13: b.74 | U13: b.75 | V13: b.74 | W13: b.74 | X13: b.74 | Y13: b.75 | Z13: b.74 | AA13: b.74 | AB13: b.74 | AC13: b.75 | AD13: b.74
A14: KK-Gewehr Auflage ZF 100m | B14: 1.44 | G14: E/R | H14: M/R | I14: E/R | J14: b.70 | K14: b.70 | L14: b.70 | M14: b.71 | N14: b.70 | O14: E/R | P14: M/R | Q14: E/R | R14: b.74 | S14: b.74 | T14: b.74 | U14: b.75 | V14: b.74 | W14: b.74 | X14: b.74 | Y14: b.75 | Z14: b.74 | AA14: b.74 | AB14: b.74 | AC14: b.75 | AD14: b.74
A15: 10m Luftpistole Auflage | B15: 2.11 | C15: E/R | D15: M/R | E15: E/R | F15: b.68 | G15: E | H15: M | I15: E | J15: b.70 | K15: E | L15: b.70 | M15: E | N15: b.70 | O15: E | P15: M | Q15: E | R15: b.74 | S15: E | T15: b.74 | U15: E /W | V15: b.74 | W15: E | X15: b.74 | Y15: E /W | Z15: b.74 | AA15: E | AB15: b.74 | AC15: E /W | AD15: b.74
A16: 50m Freie Pistole Auflage | B16: 2.21 | G16: E | H16: M | I16: b.70 | J16: b.70 | K16: E | L16: b.70 | M16: b.72 | N16: b.70 | O16: E | P16: M | Q16: b.74 | R16: b.74 | S16: E | T16: b.74 | U16: b.76 | V16: b.74 | W16: E | X16: b.74 | Y16: b.78 | Z16: b.74 | AA16: b.78 | AB16: b.74 | AC16: b.78 | AD16: b.74
A17: 25m Sportpistole Auflage | B17: 2.42 | G17: E | H17: M | I17: b.70 | J17: b.70 | K17: b.70 | L17: b.70 | M17: b.70 | N17: b.70 | O17: E | P17: M | Q17: b.74 | R17: b.74 | S17: E | T17: b.74 | U17: b.76 | V17: b.74 | W17: E | X17: b.74 | Y17: b.78 | Z17: b.74 | AA17: E | AB17: b.74 | AC17: b.78 | AD17: b.74
C19: *) 1.36 + 1.41: Der gesamte Wettkampf muss mit Diopter ODER Zielfernrohr geschossen werden
O20: Legende:
A21: PARA-Wettbewerbe | C21: SH2/AB2 | E21: SH1/AB1 | G21: SH1/AB1 | I21: SH3 | K21: AB3
C22: m/w | E22: m | G22: w | I22: m/w | K22: m/w | O22: E | P22: Einzelwertung
B23: Kennzahlklassen a | C23: 90 | E23: 92 | G23: 93 | I23: 94 | K23: 96
B24: Alter a | C24: ab Jugendklasse | O24: E / W | P24: Rahmenprogramm im OSB mit Weitermeldung gem. Ausschreibung NWDSB
A25: Luftgewehr | B25: 1.10 | C25: E | E25: E | G25: E | I25: E | K25: E
A26: Luftgewehr Liegend | B26: 1.18 | C26: E | E26: E | G26: b. 92 | O26: M | P26: Mannschaftswertung
A27: Zimmerstutzen | B27: 1.30 | C27: E | E27: E | G27: b. 92
A28: KK 100m | B28: 1.35 | C28: E | E28: E | G28: b. 92 | O28: R | P28: Rahmenwettbewerb
A29: KK-Freigewehr 3 x 40 | B29: 1.60 | E29: E | G29: b.92
A30: KK-Liegendkampf | B30: 1.80 | C30: E | E30: E | G30: b.92 | P30: Startmöglichkeit SpO 0.7.1
A31: 10m Luftpistole | B31: 2.10 | E31: E | G31: b.92
A32: 10m LP Standard ** | B32: 2.18 | E32: E | G32: b. 92 | P32: keine Startberechtigung
A33: 50m Pistole | B33: 2.20 | E33: E | G33: b. 92
A34: 25m Pistole | B34: 2.40 | E34: E | G34: b. 92 | P34: werden nicht auf Bezirksebene durchgeführt
O36: b.XX | P36: Startmöglichkeit in Klasse "XX"
C37: **) 2.18: wird nur auf einscheibigen Anlagen geschossen
P38: Disziplinen mit Wahlmöglichkeit zwischen Behinderten- und Nichtbehinderten Wettbewerben
P40: =Übersicht!AL65 -> Neu in 2027
A42: Bogenwettbewerbe | C42: Herren | E42: Damen | G42: Schüler A | K42: Schüler B | M42: Jugend | P42: Junioren | R42: Juniorinnen | T42: Master | V42: Master | X42: Senior | Z42: Seniorinnen
G43: m | I43: w | J43: m | L43: w | M43: m | O43: w | P43: A m | R43: A w | T43: m | V43: w | X43: m | Z43: w
A44: Kennzahlklassen a | C44: 10 | E44: 11 | G44: 20 | I44: 21 | J44: 22 | L44: 23 | M44: 30 | O44: 31 | P44: 40 | R44: 41 | T44: 12 | V44: 13 | X44: 14 | Z44: 15
A45: Jahrgänge a | C45: 1972 - 2000 | E45: 1972 - 2000 | G45: 2007 - 2008 | J45: 2009 - 2010 | M45: 2004 - 2006 | P45: 2001 - 2003 | R45: 2001 - 2003 | T45: 1956 - 1971 | V45: 1956 - 1971 | X45: 1955 und älter | Z45: 1955 und älter
...
